Workbook

Sheet Folha de cálculo de rácios
B2: Escolas básicas do 1.º ciclo com pré-escolar e/ou Creche - DADOS | F2: Áreas de atividade | G2: Rácio | I2: Providos | K2: Temp* | M2: Carreiras
B4: Nome do estabelecimento: | F4: Animação sociocultural de bibliotecas escolares: | G4: =1 -> 1 | J4: =I4-G4 -> -1 | L4: =K4+J4 -> -1 | M4: Técnicos superiores
F6: Apoio administrativo: | G6: =1+IF(C8>300,1,0)+IF(C10>1,1,0) -> 1 | J6: =I6-G6 -> -1 | L6: =K6+J6 -> -1 | M6: Assistentes técnicos
B7: Dados necessários ao cálculo
B8: N.º de alunos: | F8: Apoio geral: | G8: =CEILING(G9+G10+G11+G12+G13+G14,1) -> 2 | J8: =I8-G8 -> -2 | L8: =K8+J8 -> -2 | M8: Assistentes operacionais
B9: N.º de turmas: | F9: Apoio_Geral | G9: 2
B10: N.º de edifícios: | F10: Rácio_aluno | G10: =(C8-30)/44 -> -0.68181818
B11: N.º médio de refeições por dia: | F11: Tipologia | G11: =IF(C10>1,(G9+G10)*0.25,0) -> 0
B12: N.º de alunos ou crianças com ação social escolar: | F12: Tabalhadores_Incapacidade_Permanente_Parcial | G12: =C19/3 -> 0
B13: Integra valência infância? | F13: Trabalhadores_Idade_60+ | G13: =C21/3 -> 0
B14: N.º de crianças na valência creche - Berçario | F14: Alunos_ASE | G14: =IF(C12="",0,IF(AND(C12/C8>=0.6,C12/C8<0.75),1,IF(C12/C8>=0.75,2,0))) -> 0
B15: N.º de salas da valência creche - Berçario
B16: N.º de crianças na valência creche - Transição | F16: Apoio educativo: | G16: =CEILING(G17+G18+G19+G20+G21+G22+G23,1) -> 0 | J16: =I16-G16 -> 0 | L16: =K16+J16 -> 0 | M16: Técnicos de Apoio Infância
B17: N.º de salas da valência creche - Transição | F17: Salas_Creche_Berçário | G17: =C15*2 -> 0
B18: N.º de salas da valência educação pré-escolar | F18: Trabalhador_Extra_PorCrianças_Creche_Berçário | G18: =INT(C14/(10*2)) -> 0
B19: N.º de trabalhadores de apoio geral com grau de incapacidade igual ou superior a 60%, c/ idade inferior a 60 anos: | F19: Salas_Creche_Tran | G19: =C17*2 -> 0
B20: N.º de trabalhadores da carreira de técnico de apoio à infância com grau de incapacidade igual ou superior a 60%, c/ idade inferior a 60 anos: | F20: Salas_Creche_Transição_Extra | G20: =INT(C16/(13*2)) -> 0
B21: N.º de trabalhadores de apoio geral com idade superior a 60 anos: | F21: Salas_Pre | G21: =2*C18 -> 0
B22: N.º de trabalhadores da carreira de técnico de apoio à infância com idade superior a 60 anos: | F22: Tabalhadores_Incapacidade_Permanente_Parcial | G22: =C20/3 -> 0
F23: Trabalhadores_Idade_60+ | G23: =C22/3 -> 0
B24: Observações
F25: Apoio ao refeitório | G25: =1+(IF(C11>250,1,0)) -> 1 | J25: =I25-G25 -> -1 | L25: =K25+J25 -> -1 | M25: Assistentes operacionais (incluíndo Encarregados)
F27: Rácio global: | G27: =G4+G6+G8+G16+G25 -> 5 | I27: =I4+I6+I8+I16+I25 -> 0 | J27: =I27-G27 -> -5 | K27: =K4+K6+K8+K16+K25 -> 0 | L27: =K27+J27 -> -5

Sheet EB1PECSantana
B2: Escolas básicas do 1.º ciclo com pré-escolar e/ou Creche - DADOS | F2: Áreas de atividade | G2: Rácio | I2: Providos | K2: Temp* | M2: Carreiras
B4: Nome do estabelecimento: | F4: Animação sociocultural: | G4: =1 -> 1 | I4: 1 | J4: =I4-G4 -> 0 | L4: =K4+J4 -> 0 | M4: Técnicos superiores
B5: Escola Básica do 1.º Ciclo com Pré-escolar e Creche de Santana
F6: Apoio administrativo: | G6: =1+IF(D9>300,1,0)+IF(C12>1,1,0) -> 2 | I6: 2 | J6: =I6-G6 -> 0 | L6: =K6+J6 -> 0 | M6: Assistentes técnicos
B7: Dados necessários ao cálculo
F8: Apoio geral: | G8: =CEILING(G9+G10+G11+G12+G13+G14+G15+G16+G17,1) -> 7 | I8: 16 | J8: =I8-G8 -> 9 | L8: =K8+J8 -> 9 | M8: Assistentes operacionais
B9: N.º de alunos: | C9: 230 | D9: =(C9-C10)+(C10*2.5)-C19 -> 186 | F9: Apoio_Geral | G9: 2 | H9: Esp. RAM
B10: N.º de alunos ou crianças com mobilidade reduzida e com limitações acentuadas ao nível da autonomia pessoal: | C10: 2 | F10: Rácio_aluno | G10: =(D9-30)/44 -> 3.5454545
B11: N.º de turmas: | C11: 15 | F11: Tipologia | G11: =IF(C12>1,(C14+C15)*0.25,0) -> 0
B12: N.º de edifícios: | C12: 3 | F12: UEE | G12: =IF(OR(C14="",C14=0),0,IF(C14=1,2,C14-1+2)) -> 0
B13: N.º de refeições: | C13: 228 | F13: UAE | G13: =IF(OR(C15="",C15=0),0,IF(C15=1,2,C15-1+2)) -> 0
B14: N.º de salas UEE: | C14: 0 | F14: Inc_Per_Par | G14: =C23/2 -> 0 | H14: Esp. RAM
B15: N.º de salas UAE: | C15: 0 | F15: Idade_60_AG | G15: =C25/3 -> 0.66666667 | H15: Esp. RAM
B16: Escola de referência para a educação bilingue de alunos surdos ou invisuais? | C16: NÃO | F16: Esc_Ref_Ens_Ling_Gest_Visão | G16: =IF(C16="SIM",1,0) -> 0
B17: N.º de alunos ou crianças com ação social escolar: | C17: 101 | F17: ASE | G17: =IF(C17="",0,IF(AND(C17/D9>=0.6,C17/D9<0.75),1,IF(C17/D9>=0.75,2,0))) -> 0 | H17: Esp. RAM
B18: Integra valência infância? | C18: SIM
B19: N.º de crianças na valência creche: | C19: 47 | F19: Apoio educativo: | G19: =CEILING(G20+G21+G22+G23+G24,1) -> 13 | I19: 12 | J19: =I19-G19 -> -1 | L19: =K19+J19 -> -1 | M19: Técnicos de Apoio Infância
B20: N.º de salas da valência creche: | C20: 4 | F20: Salas_Creche | G20: =2*C20 -> 8 | H20: Esp. RAM
B21: N.º de salas da valência educação pré-escolar: | C21: 4 | F21: Salas_Pre | G21: =1*C21 -> 4
B22: N.º de salas da valência educação pré-escolar com apenas 1 educadora de infância colocada: | C22: 0 | F22: Edu_Inf | G22: =1*EB1PECSantana!C22 -> 0 | H22: Esp. RAM
B23: N.º de trabalhadores de apoio geral com grau de incapacidade igual ou superior a 60%, c/ idade inferior a 60 anos: | C23: 0 | F23: Inc_Per_Par | G23: =C24/2 -> 0 | H23: Esp. RAM
B24: N.º de trabalhadores da carreira de técnico de apoio à infância com grau de incapacidade igual ou superior a 60%, c/ idade inferior a 60 anos: | C24: 0 | F24: Idade_60_AE | G24: =C26/2 -> 1 | H24: Esp. RAM
B25: N.º de trabalhadores de apoio geral com idade superior a 60 anos: | C25: 2
B26: N.º de trabalhadores da carreira de técnico de apoio à infância com idade superior a 60 anos: | C26: 2 | F26: Apoio ao refeitório | G26: =1+(IF(EB1PECSantana!H4>250,1,0)) -> 1 | H26: Esp. RAM | J26: =I26-G26 -> -1 | L26: =K26+J26 -> -1 | M26: Assistentes operacionais (incluíndo Encarregados)
B28: Observações | F28: Rácio global: | G28: =G4+G6+G8+G19+G26 -> 24 | I28: =I4+I6+I8+I19+I26 -> 31 | J28: =I28-G28 -> 7 | K28: =K4+K6+K8+K19+K26 -> 0 | L28: =K28+J28 -> 7

Sheet EB1PECFaialSRoque
B2: Escolas básicas do 1.º ciclo com pré-escolar e/ou Creche - DADOS | F2: Áreas de atividade | G2: Rácio | I2: Providos | K2: Temp* | M2: Carreiras
B4: Nome do estabelecimento: | F4: Animação sociocultural: | G4: =1 -> 1 | I4: 1 | J4: =I4-G4 -> 0 | L4: =K4+J4 -> 0 | M4: Técnicos superiores
B5: Escola Básica do 1.º Ciclo com Pré-escolar e Creche do Faial e São Roque do Faial
F6: Apoio administrativo: | G6: =1+IF(D9>300,1,0)+IF(C12>1,1,0) -> 2 | I6: 1 | J6: =I6-G6 -> -1 | L6: =K6+J6 -> -1 | M6: Assistentes técnicos
B7: Dados necessários ao cálculo
F8: Apoio geral: | G8: =CEILING(G9+G10+G11+G12+G13+G14+G15+G16+G17,1) -> 7 | I8: 12 | J8: =I8-G8 -> 5 | L8: =K8+J8 -> 5 | M8: Assistentes operacionais
B9: N.º de alunos: | C9: 102 | D9: =(C9-C10)+(C10*2.5)-C19 -> 88 | F9: Apoio_Geral | G9: 2 | H9: Esp. RAM
B10: N.º de alunos ou crianças com mobilidade reduzida e com limitações acentuadas ao nível da autonomia pessoal: | C10: 6 | F10: Rácio_aluno | G10: =(D9-30)/44 -> 1.3181818
B11: N.º de turmas: | C11: 7 | F11: Tipologia | G11: =IF(C12>1,(C14+C15)*0.25,0) -> 0.25
B12: N.º de edifícios: | C12: 2 | F12: UEE | G12: =IF(OR(C14="",C14=0),0,IF(C14=1,2,C14-1+2)) -> 0
B13: N.º de refeições: | C13: 88 | F13: UAE | G13: =IF(OR(C15="",C15=0),0,IF(C15=1,2,C15-1+2)) -> 2
B14: N.º de salas UEE: | C14: 0 | F14: Inc_Per_Par | G14: =C23/2 -> 0 | H14: Esp. RAM
B15: N.º de salas UAE: | C15: 1 | F15: Idade_60_AG | G15: =C25/3 -> 0.33333333 | H15: Esp. RAM
B16: Escola de referência para a educação bilingue de alunos surdos ou invisuais? | C16: NÃO | F16: Esc_Ref_Ens_Ling_Gest_Visão | G16: =IF(C16="SIM",1,0) -> 0
B17: N.º de alunos ou crianças com ação social escolar: | C17: 57 | F17: ASE | G17: =IF(C17="",0,IF(AND(C17/D9>=0.6,C17/D9<0.75),1,IF(C17/D9>=0.75,2,0))) -> 1 | H17: Esp. RAM
B18: Integra valência infância? | C18: SIM
B19: N.º de crianças na valência creche: | C19: 23 | F19: Apoio educativo: | G19: =CEILING(G20+G21+G22+G23+G24,1) -> 7 | I19: 4 | J19: =I19-G19 -> -3 | L19: =K19+J19 -> -3 | M19: Técnicos de Apoio Infância
B20: N.º de salas da valência creche: | C20: 2 | F20: Salas_Creche | G20: =2*C20 -> 4 | H20: Esp. RAM
B21: N.º de salas da valência educação pré-escolar: | C21: 2 | F21: Salas_Pre | G21: =1*C21 -> 2
B22: N.º de salas da valência educação pré-escolar com apenas 1 educadora de infância colocada: | C22: 0 | F22: Edu_Inf | G22: =1*EB1PECFaialSRoque!C22 -> 0 | H22: Esp. RAM
B23: N.º de trabalhadores de apoio geral com grau de incapacidade igual ou superior a 60%, c/ idade inferior a 60 anos: | C23: 0 | F23: Inc_Per_Par | G23: =C24/2 -> 0 | H23: Esp. RAM
B24: N.º de trabalhadores da carreira de técnico de apoio à infância com grau de incapacidade igual ou superior a 60%, c/ idade inferior a 60 anos: | C24: 0 | F24: Idade_60_AE | G24: =C26/2 -> 0.5 | H24: Esp. RAM
B25: N.º de trabalhadores de apoio geral com idade superior a 60 anos: | C25: 1
B26: N.º de trabalhadores da carreira de técnico de apoio à infância com idade superior a 60 anos: | C26: 1 | F26: Apoio ao refeitório | G26: =1+(IF(EB1PECFaialSRoque!H4>250,1,0)) -> 1 | H26: Esp. RAM | J26: =I26-G26 -> -1 | L26: =K26+J26 -> -1 | M26: Assistentes operacionais (incluíndo Encarregados)
B28: Observações | F28: Rácio global: | G28: =G4+G6+G8+G19+G26 -> 18 | I28: =I4+I6+I8+I19+I26 -> 18 | J28: =I28-G28 -> 0 | K28: =K4+K6+K8+K19+K26 -> 0 | L28: =K28+J28 -> 0

Sheet EB1PECSJorge
B2: Escolas básicas do 1.º ciclo com pré-escolar e/ou Creche - DADOS | F2: Áreas de atividade | G2: Rácio | I2: Providos | K2: Temp* | M2: Carreiras
B4: Nome do estabelecimento: | F4: Animação sociocultural: | G4: =1 -> 1 | I4: 1 | J4: =I4-G4 -> 0 | L4: =K4+J4 -> 0 | M4: Técnicos superiores
B5: Escola Básica do 1.º Ciclo com Pré-escolar e Creche de São Jorge
F6: Apoio administrativo: | G6: =1+IF(D9>300,1,0)+IF(C12>1,1,0) -> 1 | I6: 1 | J6: =I6-G6 -> 0 | L6: =K6+J6 -> 0 | M6: Assistentes técnicos
B7: Dados necessários ao cálculo
F8: Apoio geral: | G8: =CEILING(G9+G10+G11+G12+G13+G14+G15+G16+G17,1) -> 6 | I8: 7 | J8: =I8-G8 -> 1 | L8: =K8+J8 -> 1 | M8: Assistentes operacionais
B9: N.º de alunos: | C9: 67 | D9: =(C9-C10)+(C10*2.5)-C19 -> 55 | F9: Apoio_Geral | G9: 2 | H9: Esp. RAM
B10: N.º de alunos ou crianças com mobilidade reduzida e com limitações acentuadas ao nível da autonomia pessoal: | C10: 0 | F10: Rácio_aluno | G10: =(D9-30)/44 -> 0.56818182
B11: N.º de turmas: | C11: 5 | F11: Tipologia | G11: =IF(C12>1,(C14+C15)*0.25,0) -> 0
B12: N.º de edifícios: | C12: 1 | F12: UEE | G12: =IF(OR(C14="",C14=0),0,IF(C14=1,2,C14-1+2)) -> 0
B13: N.º de refeições: | C13: 67 | F13: UAE | G13: =IF(OR(C15="",C15=0),0,IF(C15=1,2,C15-1+2)) -> 0
B14: N.º de salas UEE: | C14: 0 | F14: Inc_Per_Par | G14: =C23/2 -> 0 | H14: Esp. RAM
B15: N.º de salas UAE: | C15: 0 | F15: Idade_60_AG | G15: =C25/3 -> 0.66666667 | H15: Esp. RAM
B16: Escola de referência para a educação bilingue de alunos surdos ou invisuais? | C16: NÃO | F16: Esc_Ref_Ens_Ling_Gest_Visão | G16: =IF(C16="SIM",1,0) -> 0
B17: N.º de alunos ou crianças com ação social escolar: | C17: 44 | F17: ASE | G17: =IF(C17="",0,IF(AND(C17/D9>=0.6,C17/D9<0.75),1,IF(C17/D9>=0.75,2,0))) -> 2 | H17: Esp. RAM
B18: Integra valência infância? | C18: SIM
B19: N.º de crianças na valência creche: | C19: 12 | F19: Apoio educativo: | G19: =CEILING(G20+G21+G22+G23+G24,1) -> 5 | I19: 3 | J19: =I19-G19 -> -2 | L19: =K19+J19 -> -2 | M19: Técnicos de Apoio Infância
B20: N.º de salas da valência creche: | C20: 1 | F20: Salas_Creche | G20: =2*C20 -> 2 | H20: Esp. RAM
B21: N.º de salas da valência educação pré-escolar: | C21: 2 | F21: Salas_Pre | G21: =1*C21 -> 2
B22: N.º de salas da valência educação pré-escolar com apenas 1 educadora de infância colocada: | C22: 1 | F22: Edu_Inf | G22: =1*EB1PECSJorge!C22 -> 1 | H22: Esp. RAM
B23: N.º de trabalhadores de apoio geral com grau de incapacidade igual ou superior a 60%, c/ idade inferior a 60 anos: | C23: 0 | F23: Inc_Per_Par | G23: =C24/2 -> 0 | H23: Esp. RAM
B24: N.º de trabalhadores da carreira de técnico de apoio à infância com grau de incapacidade igual ou superior a 60%, c/ idade inferior a 60 anos: | C24: 0 | F24: Idade_60_AE | G24: =C26/2 -> 0 | H24: Esp. RAM
B25: N.º de trabalhadores de apoio geral com idade superior a 60 anos: | C25: 2
B26: N.º de trabalhadores da carreira de técnico de apoio à infância com idade superior a 60 anos: | C26: 0 | F26: Apoio ao refeitório | G26: =1+(IF(EB1PECSJorge!H4>250,1,0)) -> 1 | H26: Esp. RAM | J26: =I26-G26 -> -1 | L26: =K26+J26 -> -1 | M26: Assistentes operacionais (incluíndo Encarregados)
B28: Observações | F28: Rácio global: | G28: =G4+G6+G8+G19+G26 -> 14 | I28: =I4+I6+I8+I19+I26 -> 12 | J28: =I28-G28 -> -2 | K28: =K4+K6+K8+K19+K26 -> 0 | L28: =K28+J28 -> -2

Sheet EB1PECSVicente
B2: Escolas básicas do 1.º ciclo com pré-escolar e/ou Creche - DADOS | F2: Áreas de atividade | G2: Rácio | I2: Providos | K2: Temp* | M2: Carreiras
B4: Nome do estabelecimento: | F4: Animação sociocultural: | G4: =1 -> 1 | I4: 2 | J4: =I4-G4 -> 1 | L4: =K4+J4 -> 1 | M4: Técnicos superiores
B5: Escola Básica do 1.º Ciclo com Pré-escolar e Creche de São Vicente
F6: Apoio administrativo: | G6: =1+IF(D9>300,1,0)+IF(C12>1,1,0) -> 2 | I6: 3 | J6: =I6-G6 -> 1 | L6: =K6+J6 -> 1 | M6: Assistentes técnicos
B7: Dados necessários ao cálculo
F8: Apoio geral: | G8: =CEILING(G9+G10+G11+G12+G13+G14+G15+G16+G17,1) -> 12 | I8: 25 | J8: =I8-G8 -> 13 | L8: =K8+J8 -> 13 | M8: Assistentes operacionais
B9: N.º de alunos: | C9: 232 | D9: =(C9-C10)+(C10*2.5)-C19 -> 187 | F9: Apoio_Geral | G9: 2 | H9: Esp. RAM
B10: N.º de alunos ou crianças com mobilidade reduzida e com limitações acentuadas ao nível da autonomia pessoal: | C10: 4 | F10: Rácio_aluno | G10: =(D9-30)/44 -> 3.5681818
B11: N.º de turmas: | C11: 17 | F11: Tipologia | G11: =IF(C12>1,(C14+C15)*0.25,0) -> 0.25
B12: N.º de edifícios: | C12: 5 | F12: UEE | G12: =IF(OR(C14="",C14=0),0,IF(C14=1,2,C14-1+2)) -> 0
B13: N.º de refeições: | C13: 232 | F13: UAE | G13: =IF(OR(C15="",C15=0),0,IF(C15=1,2,C15-1+2)) -> 2
B14: N.º de salas UEE: | C14: 0 | F14: Inc_Per_Par | G14: =C23/2 -> 1 | H14: Esp. RAM
B15: N.º de salas UAE: | C15: 1 | F15: Idade_60_AG | G15: =C25/3 -> 3 | H15: Esp. RAM
B16: Escola de referência para a educação bilingue de alunos surdos ou invisuais? | C16: NÃO | F16: Esc_Ref_Ens_Ling_Gest_Visão | G16: =IF(C16="SIM",1,0) -> 0
B17: N.º de alunos ou crianças com ação social escolar: | C17: 103 | F17: ASE | G17: =IF(C17="",0,IF(AND(C17/D9>=0.6,C17/D9<0.75),1,IF(C17/D9>=0.75,2,0))) -> 0 | H17: Esp. RAM
B18: Integra valência infância? | C18: SIM
B19: N.º de crianças na valência creche: | C19: 51 | F19: Apoio educativo: | G19: =CEILING(G20+G21+G22+G23+G24,1) -> 16 | I19: 12 | J19: =I19-G19 -> -4 | L19: =K19+J19 -> -4 | M19: Técnicos de Apoio Infância
B20: N.º de salas da valência creche: | C20: 4 | F20: Salas_Creche | G20: =2*C20 -> 8 | H20: Esp. RAM
B21: N.º de salas da valência educação pré-escolar: | C21: 5 | F21: Salas_Pre | G21: =1*C21 -> 5
B22: N.º de salas da valência educação pré-escolar com apenas 1 educadora de infância colocada: | C22: 1 | F22: Edu_Inf | G22: =1*EB1PECSVicente!C22 -> 1 | H22: Esp. RAM
B23: N.º de trabalhadores de apoio geral com grau de incapacidade igual ou superior a 60%, c/ idade inferior a 60 anos: | C23: 2 | F23: Inc_Per_Par | G23: =C24/2 -> 0.5 | H23: Esp. RAM
B24: N.º de trabalhadores da carreira de técnico de apoio à infância com grau de incapacidade igual ou superior a 60%, c/ idade inferior a 60 anos: | C24: 1 | F24: Idade_60_AE | G24: =C26/2 -> 1 | H24: Esp. RAM
B25: N.º de trabalhadores de apoio geral com idade superior a 60 anos: | C25: 9
B26: N.º de trabalhadores da carreira de técnico de apoio à infância com idade superior a 60 anos: | C26: 2 | F26: Apoio ao refeitório | G26: =1+(IF(EB1PECSVicente!H4>250,1,0)) -> 1 | H26: Esp. RAM | J26: =I26-G26 -> -1 | L26: =K26+J26 -> -1 | M26: Assistentes operacionais (incluíndo Encarregados)
B28: Observações | F28: Rácio global: | G28: =G4+G6+G8+G19+G26 -> 32 | I28: =I4+I6+I8+I19+I26 -> 42 | J28: =I28-G28 -> 10 | K28: =K4+K6+K8+K19+K26 -> 0 | L28: =K28+J28 -> 10
